BEGIN:VCALENDAR
VERSION:2.0
PRODID:-//Scare Value - ECPv6.15.20//NONSGML v1.0//EN
CALSCALE:GREGORIAN
METHOD:PUBLISH
X-ORIGINAL-URL:https://scarevalue.com
X-WR-CALDESC:Events for Scare Value
REFRESH-INTERVAL;VALUE=DURATION:PT1H
X-Robots-Tag:noindex
X-PUBLISHED-TTL:PT1H
BEGIN:VTIMEZONE
TZID:America/New_York
BEGIN:DAYLIGHT
TZOFFSETFROM:-0500
TZOFFSETTO:-0400
TZNAME:EDT
DTSTART:20250309T070000
END:DAYLIGHT
BEGIN:STANDARD
TZOFFSETFROM:-0400
TZOFFSETTO:-0500
TZNAME:EST
DTSTART:20251102T060000
END:STANDARD
BEGIN:DAYLIGHT
TZOFFSETFROM:-0500
TZOFFSETTO:-0400
TZNAME:EDT
DTSTART:20260308T070000
END:DAYLIGHT
BEGIN:STANDARD
TZOFFSETFROM:-0400
TZOFFSETTO:-0500
TZNAME:EST
DTSTART:20261101T060000
END:STANDARD
BEGIN:DAYLIGHT
TZOFFSETFROM:-0500
TZOFFSETTO:-0400
TZNAME:EDT
DTSTART:20270314T070000
END:DAYLIGHT
BEGIN:STANDARD
TZOFFSETFROM:-0400
TZOFFSETTO:-0500
TZNAME:EST
DTSTART:20271107T060000
END:STANDARD
END:VTIMEZONE
BEGIN:VEVENT
DTSTART;VALUE=DATE:20260807
DTEND;VALUE=DATE:20260808
DTSTAMP:20260424T054713
CREATED:20260213T222648Z
LAST-MODIFIED:20260213T222648Z
UID:24690-1786060800-1786147199@scarevalue.com
SUMMARY:Teenage Sex And Death At Camp Miasma (Theatrical)
DESCRIPTION:
URL:https://scarevalue.com/release/teenage-sex-and-death-at-camp-miasma-release-date/
LOCATION:Theatrical\, United States
CATEGORIES:Theatrical
END:VEVENT
BEGIN:VEVENT
DTSTART;VALUE=DATE:20260807
DTEND;VALUE=DATE:20260808
DTSTAMP:20260424T054713
CREATED:20260324T045056Z
LAST-MODIFIED:20260324T045056Z
UID:25363-1786060800-1786147199@scarevalue.com
SUMMARY:The Third Parent (Theatrical)
DESCRIPTION:
URL:https://scarevalue.com/release/the-third-parent-release-date/
LOCATION:Theatrical\, United States
CATEGORIES:Theatrical
END:VEVENT
BEGIN:VEVENT
DTSTART;VALUE=DATE:20260807
DTEND;VALUE=DATE:20260808
DTSTAMP:20260424T054713
CREATED:20260413T164852Z
LAST-MODIFIED:20260413T164852Z
UID:25643-1786060800-1786147199@scarevalue.com
SUMMARY:Ice Cream Man (Theatrical)
DESCRIPTION:
URL:https://scarevalue.com/release/ice-cream-man-release-date/
LOCATION:Theatrical\, United States
CATEGORIES:Theatrical
END:VEVENT
BEGIN:VEVENT
DTSTART;VALUE=DATE:20260814
DTEND;VALUE=DATE:20260815
DTSTAMP:20260424T054713
CREATED:20260415T061151Z
LAST-MODIFIED:20260415T061151Z
UID:25684-1786665600-1786751999@scarevalue.com
SUMMARY:The End of Oak Street (Theatrical)
DESCRIPTION:
URL:https://scarevalue.com/release/the-end-of-oak-street-release-date/
LOCATION:Theatrical\, United States
CATEGORIES:Theatrical
END:VEVENT
BEGIN:VEVENT
DTSTART;VALUE=DATE:20260821
DTEND;VALUE=DATE:20260822
DTSTAMP:20260424T054713
CREATED:20260324T044726Z
LAST-MODIFIED:20260414T191650Z
UID:25361-1787270400-1787356799@scarevalue.com
SUMMARY:Insidious: Out of the Further (Theatrical)
DESCRIPTION:
URL:https://scarevalue.com/release/insidious-out-of-the-further-release-date/
LOCATION:Theatrical\, United States
CATEGORIES:Theatrical
END:VEVENT
BEGIN:VEVENT
DTSTART;VALUE=DATE:20260828
DTEND;VALUE=DATE:20260829
DTSTAMP:20260424T054713
CREATED:20260414T162636Z
LAST-MODIFIED:20260414T162636Z
UID:25645-1787875200-1787961599@scarevalue.com
SUMMARY:Colony (Theatrical)
DESCRIPTION:
URL:https://scarevalue.com/release/colony-release-date/
LOCATION:Theatrical\, United States
CATEGORIES:Theatrical
END:VEVENT
END:VCALENDAR